BEGIN:VCALENDAR
VERSION:2.0
PRODID:-//Squarespace Inc/Squarespace 6//v6//EN
BEGIN:VEVENT
UID:5d3699497b079500019a666a@squarespace.com
DTSTAMP:20190723T052350Z
DTSTART:20190803T220000Z
DTEND:20190929T210000Z
SUMMARY:Oddysee by Skye Saxon at Cement Fondu
END:VEVENT
END:VCALENDAR
