BEGIN:VCALENDAR
VERSION:2.0
PRODID:-//Squarespace Inc/Squarespace 6//v6//EN
BEGIN:VEVENT
UID:5d007ab861a08f0001962de1@squarespace.com
DTSTAMP:20190612T060011Z
DTSTART:20190810T173000Z
DTEND:20190908T190000Z
SUMMARY:Peacock Wallaby &amp\; Crows Nesting Exhibition
GEO:-33.859939;151.017294
LOCATION:Peacock Gallery Auburn
END:VEVENT
END:VCALENDAR
