BEGIN:VCALENDAR
VERSION:2.0
PRODID:-//Squarespace Inc/Squarespace 6//v6//EN
BEGIN:VEVENT
UID:5cff367ee2aadd0001d552e0@squarespace.com
DTSTAMP:20190611T050823Z
DTSTART:20190622T140000Z
DTEND:20190705T170000Z
SUMMARY:Studio A Documentary release ABC iView
END:VEVENT
END:VCALENDAR
