BEGIN:VCALENDAR
VERSION:2.0
PRODID:-//Squarespace Inc/Squarespace 6//v6//EN
BEGIN:VEVENT
UID:5cf5d874f53401000107f344@squarespace.com
DTSTAMP:20190612T034955Z
DTSTART:20190611T143000Z
DTEND:20190614T200000Z
SUMMARY:Peacock Wallaby Community Collaboration with Peacock Gallery
GEO:-33.859352;151.017387
LOCATION:Peacock Gallery\, Auburn Botanic Gardens\, Auburn\, Australia
END:VEVENT
END:VCALENDAR
