BEGIN:VCALENDAR
VERSION:2.0
PRODID:-//Squarespace Inc/Squarespace 6//v6//EN
BEGIN:VEVENT
UID:5c6b58b66e9a7f0b4e445581@squarespace.com
DTSTAMP:20190219T012430Z
DTSTART:20190309T150000Z
DTEND:20190309T210000Z
SUMMARY:ADC Makers Market
GEO:-33.874566;151.216747
LOCATION:Australian Design Centre\, 101 William Street\, Darlinghurst\, NSW
 \, 2010\, Australia
END:VEVENT
END:VCALENDAR
