BEGIN:VCALENDAR
VERSION:2.0
PRODID:-//Squarespace Inc/Squarespace 6//v6//EN
BEGIN:VEVENT
UID:5c5a4388b208fc4e62a6ebfd@squarespace.com
DTSTAMP:20190305T002141Z
DTSTART:20190329T140000Z
DTEND:20190623T160000Z
SUMMARY:The National 2019
GEO:-33.893339;151.191946
LOCATION:Carriageworks\, 245 Wilson Street\, Eveleigh\, NSW\, 2015\, Austra
 lia
END:VEVENT
END:VCALENDAR
