BEGIN:VCALENDAR
VERSION:2.0
PRODID:-//Squarespace Inc/Squarespace 6//v6//EN
BEGIN:VEVENT
UID:5b21a39c352f532eb0cad46b@squarespace.com
DTSTAMP:20180613T234210Z
DTSTART:20180705T220000Z
DTEND:20180705T230000Z
SUMMARY:One Another X Studio A textile collection launch
GEO:-33.878762;151.215146
LOCATION:21 foley street\, Darlinghurst
END:VEVENT
END:VCALENDAR
