BEGIN:VCALENDAR
VERSION:2.0
PRODID:-//Squarespace Inc/Squarespace 6//v6//EN
BEGIN:VEVENT
UID:5b21c133352f532eb0cfaf6e@squarespace.com
DTSTAMP:20180614T012022Z
DTSTART:20180703T140000Z
DTEND:20180703T150000Z
SUMMARY:Daniel Kim presents Minister Ray Williams with his portrait.
GEO:-33.825302;151.201657
LOCATION:Studio A\, 2 Ernest Street\, Crows Nest\, NSW\, 2065\, Australia
END:VEVENT
END:VCALENDAR
