BEGIN:VCALENDAR
VERSION:2.0
PRODID:-//Squarespace Inc/Squarespace 6//v6//EN
BEGIN:VEVENT
UID:5b10872088251bf1a7072fa7@squarespace.com
DTSTAMP:20180531T234504Z
DTSTART:20180513T000000Z
DTEND:20180729T210000Z
SUMMARY:Thom Roberts in the Salon Des Refusés
GEO:-33.861362;151.204319
LOCATION:S. H. Ervin Gallery
END:VEVENT
END:VCALENDAR
