BEGIN:VCALENDAR
VERSION:2.0
PRODID:-//Squarespace Inc/Squarespace 6//v6//EN
BEGIN:VEVENT
UID:5a738a674192025f8508313d@squarespace.com
DTSTAMP:20180201T215121Z
DTSTART:20180315T210000Z
DTEND:20180429T220000Z
SUMMARY:Suburbia at Cement Fondu
END:VEVENT
END:VCALENDAR
