BEGIN:VCALENDAR
VERSION:2.0
PRODID:-//Squarespace Inc/Squarespace 6//v6//EN
BEGIN:VEVENT
UID:5a690f57e2c4836d931c9fcf@squarespace.com
DTSTAMP:20180125T020330Z
DTSTART:20180224T173000Z
DTEND:20180224T203000Z
SUMMARY:Oxtravaganza: Meet the Maker\, Victoria Atkinson at the Australian 
 Design Centre
END:VEVENT
END:VCALENDAR
