BEGIN:VCALENDAR
VERSION:2.0
PRODID:-//Squarespace Inc/Squarespace 6//v6//EN
BEGIN:VEVENT
UID:5a5bd8339140b796c4ed12d1@squarespace.com
DTSTAMP:20180201T215408Z
DTSTART:20180216T230000Z
DTEND:20180217T010000Z
SUMMARY:Love Launch
GEO:-33.825302;151.201657
LOCATION:Studio A\, 4/2 Ernest Street\, Crows Nest\, NSW\, 2065\, Australia
END:VEVENT
END:VCALENDAR
