BEGIN:VCALENDAR
VERSION:2.0
PRODID:-//Squarespace Inc/Squarespace 6//v6//EN
BEGIN:VEVENT
UID:58a276c917bffc4adedcc282@squarespace.com
DTSTAMP:20170214T032138Z
DTSTART:20170302T000000Z
DTEND:20170302T040000Z
SUMMARY:The Props Collective at the Opening of Art Month Sydney
GEO:-33.889389;151.199811
LOCATION:Cake Wines\, 16 Eveleigh Street\, Redfern\, NSW\, 2016\, Australia
END:VEVENT
END:VCALENDAR
