BEGIN:VCALENDAR
VERSION:2.0
PRODID:-//Squarespace Inc/Squarespace 6//v6//EN
BEGIN:VEVENT
UID:577459cdb8a79b041a2d9e4b@squarespace.com
DTSTAMP:20160629T233502Z
DTSTART:20160713T220000Z
DTEND:20160713T230000Z
SUMMARY:Studio A Collaboration with Soto Smith / Spunky Bruiser
GEO:-33.878714;151.214957
LOCATION:Soto Smith / Spunky Bruiser\, 68 Oxford Street\, Darlinghurst\, NS
 W\, 2010\, Australia
END:VEVENT
END:VCALENDAR
