BEGIN:VCALENDAR
VERSION:2.0
PRODID:-//Squarespace Inc/Squarespace 6//v6//EN
BEGIN:VEVENT
UID:56ef2013b09f952cab1a86cd@squarespace.com
DTSTAMP:20160320T221748Z
DTSTART:20160611T220000Z
DTEND:20160612T000000Z
SUMMARY:Thom and Angelmouse at Hazelhurst
GEO:-34.032867;151.082208
LOCATION:Hazelhurst Regional Gallery\, 782 Kingsway\, Gymea\, NSW\, 2227\, 
 Australia
END:VEVENT
END:VCALENDAR
