BEGIN:VCALENDAR
VERSION:2.0
PRODID:-//Squarespace Inc/Squarespace 6//v6//EN
BEGIN:VEVENT
UID:56bbd776b6aa608164ad68cb@squarespace.com
DTSTAMP:20160211T005427Z
DTSTART:20160302T230000Z
DTEND:20160325T210000Z
SUMMARY:Peter Dudding at Firstdraft
GEO:-33.872626;151.215578
LOCATION:Firstdraft\, 13-17 Riley St\, Woolloomooloo\, NSW\, 2011\, Austral
 ia
END:VEVENT
END:VCALENDAR
