BEGIN:VCALENDAR
VERSION:2.0
PRODID:-//Squarespace Inc/Squarespace 6//v6//EN
BEGIN:VEVENT
UID:56c1223ca3360c09bee147ef@squarespace.com
DTSTAMP:20160816T231827Z
DTSTART:20160901T213000Z
DTEND:20161127T230000Z
SUMMARY:Studio A at Sydney Children's Hospital
GEO:-33.915912;151.23331
LOCATION:Sydney Children's Hospital\, High Street\, Randwick\, NSW\, 2031\, 
 Australia
END:VEVENT
END:VCALENDAR
