BEGIN:VCALENDAR
VERSION:2.0
PRODID:-//Squarespace Inc/Squarespace 6//v6//EN
BEGIN:VEVENT
UID:56c12067cf80a1dd43190cfc@squarespace.com
DTSTAMP:20160816T231624Z
DTSTART:20160903T000000Z
DTEND:20160903T010000Z
SUMMARY:Bird Fox Monster
GEO:-33.893285;151.191977
LOCATION:Carriageworks\, 245 Wilson Street\, Eveleigh\, Australia
END:VEVENT
END:VCALENDAR
