BEGIN:VCALENDAR
VERSION:2.0
PRODID:-//Squarespace Inc/Squarespace 6//v6//EN
BEGIN:VEVENT
UID:56bbd4a1356fb0d876b32b83@squarespace.com
DTSTAMP:20160211T010118Z
DTSTART:20160213T200000Z
DTEND:20160305T220000Z
SUMMARY:The Art of Cicada Press featuring Mathew Calandra
GEO:-33.719714;151.114402
LOCATION:Grace Cossington Smith Gallery\, Gate 7 1666 Pacific Highway\, Wah
 roonga\, NSW\, 2076\, Australia
END:VEVENT
END:VCALENDAR
