BEGIN:VCALENDAR
VERSION:2.0
PRODID:-//Squarespace Inc/Squarespace 6//v6//EN
BEGIN:VEVENT
UID:56bbd9f5e707ebae2ecb3516@squarespace.com
DTSTAMP:20160211T005159Z
DTSTART:20160315T220000Z
DTEND:20160316T000000Z
SUMMARY:Studio A: Flying High at SCA
GEO:-33.876107;151.160748
LOCATION:Sydney College of the Arts Gallery\, Building 29\, SCA\, Balmain R
 oad\, Rozelle\, NSW\, 2039\, Australia
END:VEVENT
END:VCALENDAR
