BEGIN:VCALENDAR
VERSION:2.0
PRODID:-//Squarespace Inc/Squarespace 6//v6//EN
BEGIN:VEVENT
UID:56bbd8822fe131cc9e2d2d44@squarespace.com
DTSTAMP:20160211T004533Z
DTSTART:20160306T150000Z
DTEND:20160307T220000Z
SUMMARY:Meagan Pelham hosting a workshop at the MCA
GEO:-33.859936;151.209037
LOCATION:Museum of Contemporary Art\, 140 George St\, The Rocks\, NSW\, 200
 0\, Australia
END:VEVENT
END:VCALENDAR
